BEGIN:VCALENDAR
METHOD:PUBLISH
VERSION:2.0
X-WR-CALNAME:Events
PRODID:-//DIGS-ILS//Events//EN
BEGIN:VTIMEZONE
TZID:Europe/Berlin
LAST-MODIFIED:20201011T015911Z
TZURL:http://tzurl.org/zoneinfo-outlook/Europe/Berlin
X-LIC-LOCATION:Europe/Berlin
BEGIN:DAYLIGHT
TZNAME:CEST
TZOFFSETFROM:+0100
TZOFFSETTO:+0200
DTSTART:19700329T020000
RRULE:FREQ=YEARLY;BYMONTH=3;BYDAY=-1SU
END:DAYLIGHT
BEGIN:STANDARD
TZNAME:CET
TZOFFSETFROM:+0200
TZOFFSETTO:+0100
DTSTART:19701025T030000
RRULE:FREQ=YEARLY;BYMONTH=10;BYDAY=-1SU
END:STANDARD
END:VTIMEZONE
BEGIN:VEVENT
SUMMARY:Isaac Gabriel Justice:
  Understanding the Design Principles
  of Living Membranes
UID:1585f8673f316dc2b96af1ccb54d195639cf2f81fa332520ce978f22a503701e
 @www.digs-ils.phd
DTSTAMP:19700101T000000Z
DTSTART;TZID=Europe/Berlin:20260519T140000
DTEND;TZID=Europe/Berlin:20260519T150000
LAST-MODIFIED:19700101T000000Z
LOCATION:TUD CRTD Auditorium right
URL:https://www.digs-ils.phd/events/2026/05/19/thesis-defense-isaac-gabrie
 l-justice
END:VEVENT
END:VCALENDAR

