BEGIN:VCALENDAR
METHOD:PUBLISH
VERSION:2.0
X-WR-CALNAME:Events
PRODID:-//DIGS-ILS//Events//EN
BEGIN:VTIMEZONE
TZID:Europe/Berlin
LAST-MODIFIED:20201011T015911Z
TZURL:http://tzurl.org/zoneinfo-outlook/Europe/Berlin
X-LIC-LOCATION:Europe/Berlin
BEGIN:DAYLIGHT
TZNAME:CEST
TZOFFSETFROM:+0100
TZOFFSETTO:+0200
DTSTART:19700329T020000
RRULE:FREQ=YEARLY;BYMONTH=3;BYDAY=-1SU
END:DAYLIGHT
BEGIN:STANDARD
TZNAME:CET
TZOFFSETFROM:+0200
TZOFFSETTO:+0100
DTSTART:19701025T030000
RRULE:FREQ=YEARLY;BYMONTH=10;BYDAY=-1SU
END:STANDARD
END:VTIMEZONE
BEGIN:VEVENT
SUMMARY:Manish Yadav: Physical
  Mechanisms Underlying Nucleosome Retention
  in Spermiogenesis
UID:6306e8b950009a6f65acec60a28f935099e58d773e0703161f59b3159009319c
 @www.digs-ils.phd
DTSTAMP:19700101T000000Z
DTSTART;TZID=Europe/Berlin:20260203T164000
DTEND;TZID=Europe/Berlin:20260203T174000
LAST-MODIFIED:19700101T000000Z
LOCATION:TU Dresden\, Recknagel-Bau Haus B\, room REC B 214
URL:https://www.digs-ils.phd/events/2026/02/03/thesis-defense-manish-yadav
END:VEVENT
END:VCALENDAR

