BEGIN:VCALENDAR
METHOD:PUBLISH
VERSION:2.0
X-WR-CALNAME:Events
PRODID:-//DIGS-ILS//Events//EN
BEGIN:VTIMEZONE
TZID:Europe/Berlin
LAST-MODIFIED:20201011T015911Z
TZURL:http://tzurl.org/zoneinfo-outlook/Europe/Berlin
X-LIC-LOCATION:Europe/Berlin
BEGIN:DAYLIGHT
TZNAME:CEST
TZOFFSETFROM:+0100
TZOFFSETTO:+0200
DTSTART:19700329T020000
RRULE:FREQ=YEARLY;BYMONTH=3;BYDAY=-1SU
END:DAYLIGHT
BEGIN:STANDARD
TZNAME:CET
TZOFFSETFROM:+0200
TZOFFSETTO:+0100
DTSTART:19701025T030000
RRULE:FREQ=YEARLY;BYMONTH=10;BYDAY=-1SU
END:STANDARD
END:VTIMEZONE
BEGIN:VEVENT
SUMMARY:Sean Keeley: From
  brains to bones and
  development to regeneration: the
  identification of Kazald1 ohnologs
  uncovers a novel gene
  family with diverse roles
  across jawed vertebrates
UID:f5ff174a2c456fe3cbc11e368e39d8e0c17a60ae8fbf045537754447feb4ab77
 @www.digs-ils.phd
DTSTAMP:19700101T000000Z
DTSTART;TZID=Europe/Berlin:20250623T160000
DTEND;TZID=Europe/Berlin:20250623T170000
LAST-MODIFIED:19700101T000000Z
LOCATION:TUD CRTD Left Auditorium
URL:https://www.digs-ils.phd/events/2025/06/23/thesis-defense-sean-keeley
END:VEVENT
END:VCALENDAR

