BEGIN:VCALENDAR
METHOD:PUBLISH
VERSION:2.0
X-WR-CALNAME:Events
PRODID:-//DIGS-ILS//Events//EN
BEGIN:VTIMEZONE
TZID:Europe/Berlin
LAST-MODIFIED:20201011T015911Z
TZURL:http://tzurl.org/zoneinfo-outlook/Europe/Berlin
X-LIC-LOCATION:Europe/Berlin
BEGIN:DAYLIGHT
TZNAME:CEST
TZOFFSETFROM:+0100
TZOFFSETTO:+0200
DTSTART:19700329T020000
RRULE:FREQ=YEARLY;BYMONTH=3;BYDAY=-1SU
END:DAYLIGHT
BEGIN:STANDARD
TZNAME:CET
TZOFFSETFROM:+0200
TZOFFSETTO:+0100
DTSTART:19701025T030000
RRULE:FREQ=YEARLY;BYMONTH=10;BYDAY=-1SU
END:STANDARD
END:VTIMEZONE
BEGIN:VEVENT
SUMMARY:Liliya Mukhametzyanova: Increasing
  the utility of evolved
  site-specific recombinases for genome
  editing
UID:f9fdbb16f6f6cd01baa5f19d70deeed9f8cba1bae7e8dfb38680ce97e05dbcf0
 @www.digs-ils.phd
DTSTAMP:19700101T000000Z
DTSTART;TZID=Europe/Berlin:20231208T150000
DTEND;TZID=Europe/Berlin:20231208T160000
LAST-MODIFIED:19700101T000000Z
LOCATION:TUD BIOTEC 5th floor\, seminar rooms 1 and 2
URL:https://www.digs-ils.phd/events/2023/12/08/thesis-defense-liliya-mukha
 metzyanova
END:VEVENT
END:VCALENDAR

